{
 "currentVersion": 10.71,
 "serviceDescription": "Ortho1998",
 "name": "imagery/Ortho1998",
 "description": "Ortho1998",
 "extent": {
  "xmin": -8587834.654419772,
  "ymin": 4691546.361720041,
  "xmax": -8574727.3138255,
  "ymax": 4699686.366812249,
  "spatialReference": {
   "wkid": 102100,
   "latestWkid": 3857
  }
 },
 "initialExtent": {
  "xmin": -8587834.654419772,
  "ymin": 4691546.361720041,
  "xmax": -8574727.3138255,
  "ymax": 4699686.366812249,
  "spatialReference": {
   "wkid": 102100,
   "latestWkid": 3857
  }
 },
 "fullExtent": {
  "xmin": -8587834.654419772,
  "ymin": 4691546.361720041,
  "xmax": -8574727.3138255,
  "ymax": 4699686.366812249,
  "spatialReference": {
   "wkid": 102100,
   "latestWkid": 3857
  }
 },
 "pixelSizeX": 0.30480060912664375,
 "pixelSizeY": 0.3048006100579399,
 "bandCount": 3,
 "pixelType": "U8",
 "minPixelSize": 0,
 "maxPixelSize": 0,
 "copyrightText": "GIS",
 "serviceDataType": "esriImageServiceDataTypeRGB",
 "minValues": [
  17,
  17,
  22
 ],
 "maxValues": [
  255,
  255,
  255
 ],
 "meanValues": [
  109.71645384368212,
  128.40166558285193,
  115.49899271967391
 ],
 "stdvValues": [
  44.74994074718238,
  44.17918038750132,
  39.37337979981402
 ],
 "objectIdField": "",
 "fields": [],
 "capabilities": "Image,Metadata,Mensuration",
 "defaultMosaicMethod": "Center",
 "allowedMosaicMethods": "",
 "sortField": "",
 "sortValue": null,
 "mosaicOperator": "First",
 "defaultCompressionQuality": 75,
 "defaultResamplingMethod": "Bilinear",
 "maxImageHeight": 4100,
 "maxImageWidth": 15000,
 "allowRasterFunction": true,
 "rasterFunctionInfos": [
  {
   "name": "None",
   "description": "",
   "help": ""
  }
 ],
 "rasterTypeInfos": [
  {
   "name": "Raster Dataset",
   "description": "Supports all ArcGIS Raster Datasets",
   "help": ""
  }
 ],
 "mensurationCapabilities": "Basic",
 "hasHistograms": true,
 "hasColormap": false,
 "hasRasterAttributeTable": false,
 "minScale": 0,
 "maxScale": 0,
 "exportTilesAllowed": false,
 "hasMultidimensions": false,
 "supportsStatistics": false,
 "supportsAdvancedQueries": false,
 "editFieldsInfo": null,
 "ownershipBasedAccessControlForRasters": null,
 "allowComputeTiePoints": false,
 "useStandardizedQueries": true,
 "advancedQueryCapabilities": {
  "useStandardizedQueries": true,
  "supportsStatistics": false,
  "supportsOrderBy": false,
  "supportsDistinct": false,
  "supportsPagination": false
 },
 "spatialReference": {
  "wkid": 102100,
  "latestWkid": 3857
 }
}
