{ "currentVersion": 10.71, "serviceDescription": "
2003 Aerials images of the city of Alexandria<\/SPAN><\/P><\/DIV>",
"name": "imagery/Ortho2003",
"description": " 2003 Aerials images of the city of Alexandria<\/SPAN><\/P><\/DIV>",
"extent": {
"xmin": -8588335.322910314,
"ymin": 4689932.398781137,
"xmax": -8574365.222910315,
"ymax": 4700306.698781136,
"spatialReference": {
"wkid": 102100,
"latestWkid": 3857
}
},
"initialExtent": {
"xmin": -8588335.322910314,
"ymin": 4689932.398781137,
"xmax": -8574365.222910315,
"ymax": 4700306.698781136,
"spatialReference": {
"wkid": 102100,
"latestWkid": 3857
}
},
"fullExtent": {
"xmin": -8588335.322910314,
"ymin": 4689932.398781137,
"xmax": -8574365.222910315,
"ymax": 4700306.698781136,
"spatialReference": {
"wkid": 102100,
"latestWkid": 3857
}
},
"pixelSizeX": 0.299999999999992,
"pixelSizeY": 0.2999999999999946,
"bandCount": 3,
"pixelType": "U8",
"minPixelSize": 0,
"maxPixelSize": 0,
"copyrightText": "",
"serviceDataType": "esriImageServiceDataTypeRGB",
"minValues": [
0,
0,
0
],
"maxValues": [
255,
255,
255
],
"meanValues": [
86.81582156769122,
82.33597404518721,
76.03301398501328
],
"stdvValues": [
54.75597156616119,
53.047052064674894,
50.917852724468645
],
"objectIdField": "",
"fields": [],
"capabilities": "Image,Metadata,Mensuration",
"defaultMosaicMethod": "Center",
"allowedMosaicMethods": "",
"sortField": "",
"sortValue": null,
"mosaicOperator": "First",
"defaultCompressionQuality": 75,
"defaultResamplingMethod": "Bilinear",
"maxImageHeight": 4100,
"maxImageWidth": 15000,
"allowRasterFunction": true,
"rasterFunctionInfos": [
{
"name": "None",
"description": "",
"help": ""
}
],
"rasterTypeInfos": [
{
"name": "Raster Dataset",
"description": "Supports all ArcGIS Raster Datasets",
"help": ""
}
],
"mensurationCapabilities": "Basic",
"hasHistograms": true,
"hasColormap": false,
"hasRasterAttributeTable": false,
"minScale": 0,
"maxScale": 0,
"exportTilesAllowed": false,
"hasMultidimensions": false,
"supportsStatistics": false,
"supportsAdvancedQueries": false,
"editFieldsInfo": null,
"ownershipBasedAccessControlForRasters": null,
"allowComputeTiePoints": false,
"useStandardizedQueries": true,
"advancedQueryCapabilities": {
"useStandardizedQueries": true,
"supportsStatistics": false,
"supportsOrderBy": false,
"supportsDistinct": false,
"supportsPagination": false
},
"spatialReference": {
"wkid": 102100,
"latestWkid": 3857
}
}