View In:
ArcGIS JavaScript
ArcGIS Online Map Viewer
ArcGIS Earth
ArcMap
View Footprint In:
ArcGIS Online Map Viewer
Service Description: Ortho 1995
Name: imagery/Ortho1995
Description: Ortho 1995
Single Fused Map Cache: false
Extent:
XMin: -8588171.41997832
YMin: 4691480.8326578215
XMax: -8575689.356321089
YMax: 4699959.075856505
Spatial Reference: 102100
(3857)
Initial Extent:
XMin: -8588171.41997832
YMin: 4691480.8326578215
XMax: -8575689.356321089
YMax: 4699959.075856505
Spatial Reference: 102100
(3857)
Full Extent:
XMin: -8588171.41997832
YMin: 4691480.8326578215
XMax: -8575689.356321089
YMax: 4699959.075856505
Spatial Reference: 102100
(3857)
Pixel Size X: 0.20000101998448372
Pixel Size Y: 0.20000101905318313
Band Count: 3
Pixel Type: U8
RasterFunction Infos: {"rasterFunctionInfos": [{
"name": "None",
"description": "",
"help": ""
}]}
Mensuration Capabilities: Basic
Has Histograms: true
Has Colormap: false
Has Multi Dimensions : false
Rendering Rule:
Min Scale: 0
Max Scale: 0
Copyright Text: GIS
Service Data Type: esriImageServiceDataTypeRGB
Min Values: 0, 0, 0
Max Values: 255, 255, 255
Mean Values: 109.93502262702548, 118.71452831805044, 80.63388831297182
Standard Deviation Values: 53.84878116692634, 51.9871571394409, 43.96728763481796
Object ID Field:
Fields:
None
Default Mosaic Method: Center
Allowed Mosaic Methods:
SortField:
SortValue: null
Mosaic Operator: First
Default Compression Quality: 75
Default Resampling Method: Bilinear
Max Record Count: null
Max Image Height: 4100
Max Image Width: 15000
Max Download Image Count: null
Max Mosaic Image Count: null
Allow Raster Function: true
Allow Compute TiePoints: false
Supports Statistics: false
Supports Advanced Queries: false
Use StandardizedQueries: true
Raster Type Infos:
Name: Raster Dataset
Description: Supports all ArcGIS Raster Datasets
Help:
Has Raster Attribute Table: false
Edit Fields Info: null
Ownership Based AccessControl For Rasters: null
Child Resources:
Info
Histograms
Key Properties
Legend
MultiDimensionalInfo
rasterFunctionInfos
Supported Operations:
Export Image
Identify
Measure
Compute Histograms
Compute Statistics Histograms
Get Samples
Compute Class Statistics
Query Boundary
Compute Pixel Location