View In:
ArcGIS JavaScript
ArcGIS Online Map Viewer
ArcGIS Earth
ArcMap
View Footprint In:
ArcGIS Online Map Viewer
Service Description: Ortho 2002
Name: imagery/Ortho2002
Description: Ortho 2002
Single Fused Map Cache: false
Extent:
XMin: -8589371.973314617
YMin: 4690006.920248689
XMax: -8573596.408188049
YMax: 4700054.062758032
Spatial Reference: 102100
(3857)
Initial Extent:
XMin: -8589371.973314617
YMin: 4690006.920248689
XMax: -8573596.408188049
YMax: 4700054.062758032
Spatial Reference: 102100
(3857)
Full Extent:
XMin: -8589371.973314617
YMin: 4690006.920248689
XMax: -8573596.408188049
YMax: 4700054.062758032
Spatial Reference: 102100
(3857)
Pixel Size X: 0.3048006091266511
Pixel Size Y: 0.3048006100580379
Band Count: 3
Pixel Type: U8
RasterFunction Infos: {"rasterFunctionInfos": [{
"name": "None",
"description": "",
"help": ""
}]}
Mensuration Capabilities: Basic
Has Histograms: true
Has Colormap: false
Has Multi Dimensions : false
Rendering Rule:
Min Scale: 0
Max Scale: 0
Copyright Text: GIS
Service Data Type: esriImageServiceDataTypeRGB
Min Values: 0, 0, 0
Max Values: 255, 255, 255
Mean Values: 119.88111443249512, 112.03547916767691, 87.13146489528366
Standard Deviation Values: 39.25218204915323, 37.18770121181774, 34.69358267312547
Object ID Field:
Fields:
None
Default Mosaic Method: Center
Allowed Mosaic Methods:
SortField:
SortValue: null
Mosaic Operator: First
Default Compression Quality: 75
Default Resampling Method: Bilinear
Max Record Count: null
Max Image Height: 4100
Max Image Width: 15000
Max Download Image Count: null
Max Mosaic Image Count: null
Allow Raster Function: true
Allow Compute TiePoints: false
Supports Statistics: false
Supports Advanced Queries: false
Use StandardizedQueries: true
Raster Type Infos:
Name: Raster Dataset
Description: Supports all ArcGIS Raster Datasets
Help:
Has Raster Attribute Table: false
Edit Fields Info: null
Ownership Based AccessControl For Rasters: null
Child Resources:
Info
Histograms
Key Properties
Legend
MultiDimensionalInfo
rasterFunctionInfos
Supported Operations:
Export Image
Identify
Measure
Compute Histograms
Compute Statistics Histograms
Get Samples
Compute Class Statistics
Query Boundary
Compute Pixel Location