View In:
ArcGIS JavaScript
ArcGIS Online Map Viewer
ArcGIS Earth
ArcMap
View Footprint In:
ArcGIS Online Map Viewer
Service Description: Ortho2011
Name: imagery/Ortho2011
Description: Ortho2011
Single Fused Map Cache: false
Extent:
XMin: -8589372.108054293
YMin: 4690038.2844625795
XMax: -8575550.61963283
YMax: 4700054.032509084
Spatial Reference: 102100
(3857)
Initial Extent:
XMin: -8589372.108054293
YMin: 4690038.2844625795
XMax: -8575550.61963283
YMax: 4700054.032509084
Spatial Reference: 102100
(3857)
Full Extent:
XMin: -8589372.108054293
YMin: 4690038.2844625795
XMax: -8575550.61963283
YMax: 4700054.032509084
Spatial Reference: 102100
(3857)
Pixel Size X: 0.3048006091267692
Pixel Size Y: 0.30480061005795295
Band Count: 4
Pixel Type: U8
RasterFunction Infos: {"rasterFunctionInfos": [{
"name": "None",
"description": "",
"help": ""
}]}
Mensuration Capabilities: Basic
Has Histograms: true
Has Colormap: false
Has Multi Dimensions : false
Rendering Rule:
Min Scale: 0
Max Scale: 0
Copyright Text: GIS
Service Data Type: esriImageServiceDataTypeGeneric
Min Values: 0, 0, 0, 0
Max Values: 255, 255, 255, 255
Mean Values: 95.20009150783663, 96.92610132966037, 81.79958083095003, 146.87493610544473
Standard Deviation Values: 58.800488527402464, 55.39713281473497, 47.525953971571596, 69.43559850364933
Object ID Field:
Fields:
None
Default Mosaic Method: Center
Allowed Mosaic Methods:
SortField:
SortValue: null
Mosaic Operator: First
Default Compression Quality: 75
Default Resampling Method: Bilinear
Max Record Count: null
Max Image Height: 4100
Max Image Width: 15000
Max Download Image Count: null
Max Mosaic Image Count: null
Allow Raster Function: true
Allow Compute TiePoints: false
Supports Statistics: false
Supports Advanced Queries: false
Use StandardizedQueries: true
Raster Type Infos:
Name: Raster Dataset
Description: Supports all ArcGIS Raster Datasets
Help:
Has Raster Attribute Table: false
Edit Fields Info: null
Ownership Based AccessControl For Rasters: null
Child Resources:
Info
Histograms
Key Properties
Legend
MultiDimensionalInfo
rasterFunctionInfos
Supported Operations:
Export Image
Identify
Measure
Compute Histograms
Compute Statistics Histograms
Get Samples
Compute Class Statistics
Query Boundary
Compute Pixel Location