View In:
ArcGIS JavaScript
ArcGIS Online Map Viewer
ArcGIS Earth
ArcMap
View Footprint In:
ArcGIS Online Map Viewer
Service Description: Ortho 2013
Name: imagery/Ortho2013
Description: Ortho 2013
Single Fused Map Cache: false
Extent:
XMin: -8587893.66080252
YMin: 4691018.620412642
XMax: -8575535.215285629
YMax: 4701013.565802533
Spatial Reference: 102100
(3857)
Initial Extent:
XMin: -8587893.66080252
YMin: 4691018.620412642
XMax: -8575535.215285629
YMax: 4701013.565802533
Spatial Reference: 102100
(3857)
Full Extent:
XMin: -8587893.66080252
YMin: 4691018.620412642
XMax: -8575535.215285629
YMax: 4701013.565802533
Spatial Reference: 102100
(3857)
Pixel Size X: 0.07620015240030939
Pixel Size Y: 0.07620015240030681
Band Count: 4
Pixel Type: U8
RasterFunction Infos: {"rasterFunctionInfos": [{
"name": "None",
"description": "",
"help": ""
}]}
Mensuration Capabilities: Basic
Has Histograms: true
Has Colormap: false
Has Multi Dimensions : false
Rendering Rule:
Min Scale: 0
Max Scale: 0
Copyright Text: GIS
Service Data Type: esriImageServiceDataTypeGeneric
Min Values: 0, 0, 0, 0
Max Values: 255, 255, 255, 255
Mean Values: 123.51409302400576, 127.7073488115021, 126.65787148936121, 135.55633450517703
Standard Deviation Values: 38.13107914803955, 37.707310561923386, 36.0788790434826, 40.59002594138011
Object ID Field:
Fields:
None
Default Mosaic Method: Center
Allowed Mosaic Methods:
SortField:
SortValue: null
Mosaic Operator: First
Default Compression Quality: 75
Default Resampling Method: Bilinear
Max Record Count: null
Max Image Height: 4100
Max Image Width: 15000
Max Download Image Count: null
Max Mosaic Image Count: null
Allow Raster Function: true
Allow Compute TiePoints: false
Supports Statistics: false
Supports Advanced Queries: false
Use StandardizedQueries: true
Raster Type Infos:
Name: Raster Dataset
Description: Supports all ArcGIS Raster Datasets
Help:
Has Raster Attribute Table: false
Edit Fields Info: null
Ownership Based AccessControl For Rasters: null
Child Resources:
Info
Histograms
Key Properties
Legend
MultiDimensionalInfo
rasterFunctionInfos
Supported Operations:
Export Image
Identify
Measure
Compute Histograms
Compute Statistics Histograms
Get Samples
Compute Class Statistics
Query Boundary
Compute Pixel Location