View In:
ArcGIS JavaScript
ArcGIS Online Map Viewer
ArcGIS Earth
ArcMap
View Footprint In:
ArcGIS Online Map Viewer
Service Description: imagery/img1949
Name: imagery/img1949
Description:
Single Fused Map Cache: false
Extent:
XMin: -8589671.788772728
YMin: 4688793.016311821
XMax: -8574381.720748127
YMax: 4700895.60596475
Spatial Reference: 102100
(3857)
Initial Extent:
XMin: -8589671.788772728
YMin: 4688793.016311821
XMax: -8574381.720748127
YMax: 4700895.60596475
Spatial Reference: 102100
(3857)
Full Extent:
XMin: -8589671.788772728
YMin: 4688793.016311821
XMax: -8574381.720748127
YMax: 4700895.60596475
Spatial Reference: 102100
(3857)
Pixel Size X: 0.6066765077412128
Pixel Size Y: 0.6066765077412128
Band Count: 1
Pixel Type: F32
RasterFunction Infos: {"rasterFunctionInfos": [{
"name": "None",
"description": "",
"help": ""
}]}
Mensuration Capabilities: Basic
Has Histograms: true
Has Colormap: false
Has Multi Dimensions : false
Rendering Rule:
Min Scale: 0
Max Scale: 0
Copyright Text:
Service Data Type: esriImageServiceDataTypeGeneric
Min Values: 17
Max Values: 255
Mean Values: 184.79520830106665
Standard Deviation Values: 22.923959563789094
Object ID Field:
Fields:
None
Default Mosaic Method: Center
Allowed Mosaic Methods:
SortField:
SortValue: null
Mosaic Operator: First
Default Compression Quality: 75
Default Resampling Method: Bilinear
Max Record Count: null
Max Image Height: 4100
Max Image Width: 15000
Max Download Image Count: null
Max Mosaic Image Count: null
Allow Raster Function: true
Allow Compute TiePoints: false
Supports Statistics: false
Supports Advanced Queries: false
Use StandardizedQueries: true
Raster Type Infos:
Name: Raster Dataset
Description: Supports all ArcGIS Raster Datasets
Help:
Has Raster Attribute Table: false
Edit Fields Info: null
Ownership Based AccessControl For Rasters: null
Child Resources:
Info
Histograms
Key Properties
Legend
MultiDimensionalInfo
rasterFunctionInfos
Supported Operations:
Export Image
Identify
Measure
Compute Histograms
Compute Statistics Histograms
Get Samples
Compute Class Statistics
Query Boundary
Compute Pixel Location