View In:
ArcGIS JavaScript
ArcGIS Online Map Viewer
ArcGIS Earth
ArcMap
View Footprint In:
ArcGIS Online Map Viewer
Service Description: imagery/img1983
Name: imagery/img1983
Description:
Single Fused Map Cache: false
Extent:
XMin: -8584536.386983037
YMin: 4689756.558589872
XMax: -8572690.409249347
YMax: 4701851.858886762
Spatial Reference: 102100
(3857)
Initial Extent:
XMin: -8584536.386983037
YMin: 4689756.558589872
XMax: -8572690.409249347
YMax: 4701851.858886762
Spatial Reference: 102100
(3857)
Full Extent:
XMin: -8584536.386983037
YMin: 4689756.558589872
XMax: -8572690.409249347
YMax: 4701851.858886762
Spatial Reference: 102100
(3857)
Pixel Size X: 1.5779909063128137
Pixel Size Y: 1.5779909063130617
Band Count: 3
Pixel Type: U16
RasterFunction Infos: {"rasterFunctionInfos": [{
"name": "None",
"description": "",
"help": ""
}]}
Mensuration Capabilities: Basic
Has Histograms: true
Has Colormap: false
Has Multi Dimensions : false
Rendering Rule:
Min Scale: 0
Max Scale: 0
Copyright Text:
Service Data Type: esriImageServiceDataTypeGeneric
Min Values: 0, 0, 0
Max Values: 253, 254, 255
Mean Values: 51.175751126659996, 85.70477114174838, 93.78248877958067
Standard Deviation Values: 56.80496680236923, 50.05386021145008, 50.366354150997125
Object ID Field:
Fields:
None
Default Mosaic Method: Center
Allowed Mosaic Methods:
SortField:
SortValue: null
Mosaic Operator: First
Default Compression Quality: 75
Default Resampling Method: Bilinear
Max Record Count: null
Max Image Height: 4100
Max Image Width: 15000
Max Download Image Count: null
Max Mosaic Image Count: null
Allow Raster Function: true
Allow Compute TiePoints: false
Supports Statistics: false
Supports Advanced Queries: false
Use StandardizedQueries: true
Raster Type Infos:
Name: Raster Dataset
Description: Supports all ArcGIS Raster Datasets
Help:
Has Raster Attribute Table: false
Edit Fields Info: null
Ownership Based AccessControl For Rasters: null
Child Resources:
Info
Histograms
Key Properties
Legend
MultiDimensionalInfo
rasterFunctionInfos
Supported Operations:
Export Image
Identify
Measure
Compute Histograms
Compute Statistics Histograms
Get Samples
Compute Class Statistics
Query Boundary
Compute Pixel Location