View In:
ArcGIS JavaScript
ArcGIS Online Map Viewer
ArcGIS Earth
ArcMap
View Footprint In:
ArcGIS Online Map Viewer
Service Description: alxOrtho16
Name: imagery/Ortho2016
Description: alxOrtho16
Single Fused Map Cache: false
Extent:
XMin: -8588884.2976973
YMin: 4690030.601749789
XMax: -8575046.654759
YMax: 4701027.9601273835
Spatial Reference: 102100
(3857)
Initial Extent:
XMin: -8588884.2976973
YMin: 4690030.601749789
XMax: -8575046.654759
YMax: 4701027.9601273835
Spatial Reference: 102100
(3857)
Full Extent:
XMin: -8588884.2976973
YMin: 4690030.601749789
XMax: -8575046.654759
YMax: 4701027.9601273835
Spatial Reference: 102100
(3857)
Pixel Size X: 0.15240030549462508
Pixel Size Y: 0.15240030456333062
Band Count: 4
Pixel Type: U8
RasterFunction Infos: {"rasterFunctionInfos": [{
"name": "None",
"description": "",
"help": ""
}]}
Mensuration Capabilities: Basic
Has Histograms: true
Has Colormap: false
Has Multi Dimensions : false
Rendering Rule:
Min Scale: 0
Max Scale: 0
Copyright Text:
Service Data Type: esriImageServiceDataTypeGeneric
Min Values: 0, 0, 0, 0
Max Values: 255, 255, 255, 255
Mean Values: 93.71585045498348, 98.97423028618954, 89.03651100084122, 116.18904052285065
Standard Deviation Values: 43.00274338687223, 39.47469135466807, 38.97372869152897, 50.55768382592487
Object ID Field:
Fields:
None
Default Mosaic Method: Center
Allowed Mosaic Methods:
SortField:
SortValue: null
Mosaic Operator: First
Default Compression Quality: 75
Default Resampling Method: Bilinear
Max Record Count: null
Max Image Height: 4100
Max Image Width: 15000
Max Download Image Count: null
Max Mosaic Image Count: null
Allow Raster Function: true
Allow Compute TiePoints: false
Supports Statistics: false
Supports Advanced Queries: false
Use StandardizedQueries: true
Raster Type Infos:
Name: Raster Dataset
Description: Supports all ArcGIS Raster Datasets
Help:
Has Raster Attribute Table: false
Edit Fields Info: null
Ownership Based AccessControl For Rasters: null
Child Resources:
Info
Histograms
Key Properties
Legend
MultiDimensionalInfo
rasterFunctionInfos
Supported Operations:
Export Image
Identify
Measure
Compute Histograms
Compute Statistics Histograms
Get Samples
Compute Class Statistics
Query Boundary
Compute Pixel Location