View In:
ArcGIS JavaScript
ArcGIS Online Map Viewer
ArcGIS Earth
ArcMap
View Footprint In:
ArcGIS Online Map Viewer
Service Description: 1927 Imagery
Name: imagery/img1927
Description: 1927 Imagery
Single Fused Map Cache: false
Extent:
XMin: -8589031.62607494
YMin: 4690475.61231768
XMax: -8575365.380842341
YMax: 4700486.117017548
Spatial Reference: 102100
(3857)
Initial Extent:
XMin: -8589031.62607494
YMin: 4690475.61231768
XMax: -8575365.380842341
YMax: 4700486.117017548
Spatial Reference: 102100
(3857)
Full Extent:
XMin: -8589031.62607494
YMin: 4690475.61231768
XMax: -8575365.380842341
YMax: 4700486.117017548
Spatial Reference: 102100
(3857)
Pixel Size X: 0.07680772690413457
Pixel Size Y: 0.07680772718800616
Band Count: 1
Pixel Type: S16
RasterFunction Infos: {"rasterFunctionInfos": [{
"name": "None",
"description": "",
"help": ""
}]}
Mensuration Capabilities: Basic
Has Histograms: true
Has Colormap: false
Has Multi Dimensions : false
Rendering Rule:
Min Scale: 0
Max Scale: 0
Copyright Text: GIS
Service Data Type: esriImageServiceDataTypeGeneric
Min Values: 0
Max Values: 255
Mean Values: 111.80978481437026
Standard Deviation Values: 71.48788183002421
Object ID Field:
Fields:
None
Default Mosaic Method: Center
Allowed Mosaic Methods:
SortField:
SortValue: null
Mosaic Operator: First
Default Compression Quality: 75
Default Resampling Method: Bilinear
Max Record Count: null
Max Image Height: 4100
Max Image Width: 15000
Max Download Image Count: null
Max Mosaic Image Count: null
Allow Raster Function: true
Allow Compute TiePoints: false
Supports Statistics: false
Supports Advanced Queries: false
Use StandardizedQueries: true
Raster Type Infos:
Name: Raster Dataset
Description: Supports all ArcGIS Raster Datasets
Help:
Has Raster Attribute Table: true
Edit Fields Info: null
Ownership Based AccessControl For Rasters: null
Child Resources:
Info
Raster Attribute Table
Histograms
Key Properties
Legend
MultiDimensionalInfo
rasterFunctionInfos
Supported Operations:
Export Image
Identify
Measure
Compute Histograms
Compute Statistics Histograms
Get Samples
Compute Class Statistics
Query Boundary
Compute Pixel Location