View In:
ArcGIS JavaScript
ArcGIS Online Map Viewer
ArcGIS Earth
ArcMap
View Footprint In:
ArcGIS Online Map Viewer
Service Description: Ortho1998
Name: imagery/Ortho1998
Description: Ortho1998
Single Fused Map Cache: false
Extent:
XMin: -8587834.654419772
YMin: 4691546.361720041
XMax: -8574727.3138255
YMax: 4699686.366812249
Spatial Reference: 102100
(3857)
Initial Extent:
XMin: -8587834.654419772
YMin: 4691546.361720041
XMax: -8574727.3138255
YMax: 4699686.366812249
Spatial Reference: 102100
(3857)
Full Extent:
XMin: -8587834.654419772
YMin: 4691546.361720041
XMax: -8574727.3138255
YMax: 4699686.366812249
Spatial Reference: 102100
(3857)
Pixel Size X: 0.30480060912664375
Pixel Size Y: 0.3048006100579399
Band Count: 3
Pixel Type: U8
RasterFunction Infos: {"rasterFunctionInfos": [{
"name": "None",
"description": "",
"help": ""
}]}
Mensuration Capabilities: Basic
Has Histograms: true
Has Colormap: false
Has Multi Dimensions : false
Rendering Rule:
Min Scale: 0
Max Scale: 0
Copyright Text: GIS
Service Data Type: esriImageServiceDataTypeRGB
Min Values: 17, 17, 22
Max Values: 255, 255, 255
Mean Values: 109.71645384368212, 128.40166558285193, 115.49899271967391
Standard Deviation Values: 44.74994074718238, 44.17918038750132, 39.37337979981402
Object ID Field:
Fields:
None
Default Mosaic Method: Center
Allowed Mosaic Methods:
SortField:
SortValue: null
Mosaic Operator: First
Default Compression Quality: 75
Default Resampling Method: Bilinear
Max Record Count: null
Max Image Height: 4100
Max Image Width: 15000
Max Download Image Count: null
Max Mosaic Image Count: null
Allow Raster Function: true
Allow Compute TiePoints: false
Supports Statistics: false
Supports Advanced Queries: false
Use StandardizedQueries: true
Raster Type Infos:
Name: Raster Dataset
Description: Supports all ArcGIS Raster Datasets
Help:
Has Raster Attribute Table: false
Edit Fields Info: null
Ownership Based AccessControl For Rasters: null
Child Resources:
Info
Histograms
Key Properties
Legend
MultiDimensionalInfo
rasterFunctionInfos
Supported Operations:
Export Image
Identify
Measure
Compute Histograms
Compute Statistics Histograms
Get Samples
Compute Class Statistics
Query Boundary
Compute Pixel Location