View In:
ArcGIS JavaScript
ArcGIS Online Map Viewer
ArcGIS Earth
ArcMap
View Footprint In:
ArcGIS Online Map Viewer
Service Description: 2003 Aerials images of the city of Alexandria
Name: imagery/Ortho2003
Description: 2003 Aerials images of the city of Alexandria
Single Fused Map Cache: false
Extent:
XMin: -8588335.322910314
YMin: 4689932.398781137
XMax: -8574365.222910315
YMax: 4700306.698781136
Spatial Reference: 102100
(3857)
Initial Extent:
XMin: -8588335.322910314
YMin: 4689932.398781137
XMax: -8574365.222910315
YMax: 4700306.698781136
Spatial Reference: 102100
(3857)
Full Extent:
XMin: -8588335.322910314
YMin: 4689932.398781137
XMax: -8574365.222910315
YMax: 4700306.698781136
Spatial Reference: 102100
(3857)
Pixel Size X: 0.299999999999992
Pixel Size Y: 0.2999999999999946
Band Count: 3
Pixel Type: U8
RasterFunction Infos: {"rasterFunctionInfos": [{
"name": "None",
"description": "",
"help": ""
}]}
Mensuration Capabilities: Basic
Has Histograms: true
Has Colormap: false
Has Multi Dimensions : false
Rendering Rule:
Min Scale: 0
Max Scale: 0
Copyright Text:
Service Data Type: esriImageServiceDataTypeRGB
Min Values: 0, 0, 0
Max Values: 255, 255, 255
Mean Values: 86.81582156769122, 82.33597404518721, 76.03301398501328
Standard Deviation Values: 54.75597156616119, 53.047052064674894, 50.917852724468645
Object ID Field:
Fields:
None
Default Mosaic Method: Center
Allowed Mosaic Methods:
SortField:
SortValue: null
Mosaic Operator: First
Default Compression Quality: 75
Default Resampling Method: Bilinear
Max Record Count: null
Max Image Height: 4100
Max Image Width: 15000
Max Download Image Count: null
Max Mosaic Image Count: null
Allow Raster Function: true
Allow Compute TiePoints: false
Supports Statistics: false
Supports Advanced Queries: false
Use StandardizedQueries: true
Raster Type Infos:
Name: Raster Dataset
Description: Supports all ArcGIS Raster Datasets
Help:
Has Raster Attribute Table: false
Edit Fields Info: null
Ownership Based AccessControl For Rasters: null
Child Resources:
Info
Histograms
Key Properties
Legend
MultiDimensionalInfo
rasterFunctionInfos
Supported Operations:
Export Image
Identify
Measure
Compute Histograms
Compute Statistics Histograms
Get Samples
Compute Class Statistics
Query Boundary
Compute Pixel Location